Package: ropls Version: 1.38.0 Command: /Library/Frameworks/R.framework/Resources/bin/R CMD INSTALL ropls StartedAt: 2025-02-03 17:52:32 -0500 (Mon, 03 Feb 2025) EndedAt: 2025-02-03 17:53:05 -0500 (Mon, 03 Feb 2025) EllapsedTime: 32.9 seconds RetCode: 0 Status: OK