Package: ropls Version: 1.38.0 Command: /Library/Frameworks/R.framework/Resources/bin/R CMD INSTALL ropls StartedAt: 2025-01-30 16:35:46 -0500 (Thu, 30 Jan 2025) EndedAt: 2025-01-30 16:36:52 -0500 (Thu, 30 Jan 2025) EllapsedTime: 66.7 seconds RetCode: 0 Status: OK