Package: ropls Version: 1.38.0 Command: rm -rf ropls.buildbin-libdir && mkdir ropls.buildbin-libdir && F:\biocbuild\bbs-3.20-bioc\R\bin\R.exe CMD INSTALL --build --library=ropls.buildbin-libdir ropls_1.38.0.tar.gz StartedAt: 2025-02-04 09:23:01 -0500 (Tue, 04 Feb 2025) EndedAt: 2025-02-04 09:23:53 -0500 (Tue, 04 Feb 2025) EllapsedTime: 51.9 seconds RetCode: 0 Status: OK PackageFile: ropls_1.38.0.zip PackageFileSize: 4.571 MiB