Package: ropls Version: 1.38.0 Command: chmod a+r ropls -R && F:\biocbuild\bbs-3.20-bioc\R\bin\R.exe CMD build --keep-empty-dirs --no-resave-data ropls StartedAt: 2025-02-03 21:45:51 -0500 (Mon, 03 Feb 2025) EndedAt: 2025-02-03 21:47:31 -0500 (Mon, 03 Feb 2025) EllapsedTime: 100.4 seconds RetCode: 0 Status: OK PackageFile: ropls_1.38.0.tar.gz PackageFileSize: 4.047 MiB