Package: rprimer Version: 1.10.0 Command: rm -rf rprimer.buildbin-libdir && mkdir rprimer.buildbin-libdir && /Users/biocbuild/BBS/utils/build-universal.sh rprimer_1.10.0.tar.gz /Library/Frameworks/R.framework/Resources/bin/R rprimer.buildbin-libdir StartedAt: 2025-02-01 16:37:24 -0500 (Sat, 01 Feb 2025) EndedAt: 2025-02-01 16:37:47 -0500 (Sat, 01 Feb 2025) EllapsedTime: 22.8 seconds RetCode: 0 Status: OK PackageFile: rprimer_1.10.0.tgz PackageFileSize: 3.656 MiB