Package: rprimer Version: 1.10.0 Command: /Library/Frameworks/R.framework/Resources/bin/R CMD check --install=check:rprimer.install-out.txt --library=/Library/Frameworks/R.framework/Resources/library --no-vignettes --timings rprimer_1.10.0.tar.gz StartedAt: 2025-02-01 07:20:09 -0500 (Sat, 01 Feb 2025) EndedAt: 2025-02-01 07:23:13 -0500 (Sat, 01 Feb 2025) EllapsedTime: 184.4 seconds RetCode: 0 Status: OK CheckDir: rprimer.Rcheck Warnings: 0