Package: rprimer Version: 1.10.0 Command: /Library/Frameworks/R.framework/Resources/bin/R CMD INSTALL rprimer StartedAt: 2025-01-30 16:58:11 -0500 (Thu, 30 Jan 2025) EndedAt: 2025-01-30 16:58:32 -0500 (Thu, 30 Jan 2025) EllapsedTime: 20.7 seconds RetCode: 0 Status: OK