Package: rprimer Version: 1.10.0 Command: /home/biocbuild/bbs-3.20-bioc/R/bin/R CMD check --install=check:rprimer.install-out.txt --library=/home/biocbuild/bbs-3.20-bioc/R/site-library --timings rprimer_1.10.0.tar.gz StartedAt: 2025-02-04 01:57:31 -0500 (Tue, 04 Feb 2025) EndedAt: 2025-02-04 02:00:52 -0500 (Tue, 04 Feb 2025) EllapsedTime: 201.3 seconds RetCode: 0 Status: OK CheckDir: rprimer.Rcheck Warnings: 0