Package: rprimer Version: 1.10.0 Command: /home/biocbuild/R/R/bin/R CMD build --keep-empty-dirs --no-resave-data rprimer StartedAt: 2025-02-04 02:26:31 -0000 (Tue, 04 Feb 2025) EndedAt: 2025-02-04 02:28:06 -0000 (Tue, 04 Feb 2025) EllapsedTime: 95.2 seconds RetCode: 0 Status: OK PackageFile: rprimer_1.10.0.tar.gz PackageFileSize: 1.813 MiB