Package: rprimer Version: 1.10.0 Command: /home/biocbuild/R/R/bin/R CMD INSTALL rprimer StartedAt: 2025-01-30 20:43:27 -0000 (Thu, 30 Jan 2025) EndedAt: 2025-01-30 20:43:52 -0000 (Thu, 30 Jan 2025) EllapsedTime: 24.4 seconds RetCode: 0 Status: OK