Package: rpx Version: 2.14.1 Maintainer: Laurent Gatto MaintainerEmail: laurent.gatto at uclouvain.be git_url: https://git.bioconductor.org/packages/rpx git_branch: RELEASE_3_20 git_last_commit: edfdf3f git_last_commit_date: 2025-02-07 10:45:19 -0500 (Fri, 07 Feb 2025)