Package: rpx Version: 2.14.0 Command: rm -rf rpx.buildbin-libdir && mkdir rpx.buildbin-libdir && /Users/biocbuild/BBS/utils/build-universal.sh rpx_2.14.0.tar.gz /Library/Frameworks/R.framework/Resources/bin/R rpx.buildbin-libdir StartedAt: 2025-02-01 16:37:39 -0500 (Sat, 01 Feb 2025) EndedAt: 2025-02-01 16:37:48 -0500 (Sat, 01 Feb 2025) EllapsedTime: 9.1 seconds RetCode: 0 Status: OK PackageFile: rpx_2.14.0.tgz PackageFileSize: 483.5 KiB