Package: rpx Version: 2.14.0 Command: /Library/Frameworks/R.framework/Resources/bin/R CMD build --keep-empty-dirs --no-resave-data rpx StartedAt: 2025-02-04 06:59:29 -0500 (Tue, 04 Feb 2025) EndedAt: 2025-02-04 06:59:43 -0500 (Tue, 04 Feb 2025) EllapsedTime: 13.8 seconds RetCode: 1 Status: ERROR PackageFile: None PackageFileSize: NA