Package: rpx Version: 2.14.0 Command: /Library/Frameworks/R.framework/Resources/bin/R CMD check --install=check:rpx.install-out.txt --library=/Library/Frameworks/R.framework/Resources/library --no-vignettes --timings rpx_2.14.0.tar.gz StartedAt: 2025-02-01 07:20:34 -0500 (Sat, 01 Feb 2025) EndedAt: 2025-02-01 07:21:31 -0500 (Sat, 01 Feb 2025) EllapsedTime: 56.9 seconds RetCode: 1 Status: ERROR CheckDir: rpx.Rcheck Warnings: NA