Package: rpx Version: 2.14.0 Command: /Library/Frameworks/R.framework/Resources/bin/R CMD INSTALL rpx StartedAt: 2025-02-03 15:40:03 -0500 (Mon, 03 Feb 2025) EndedAt: 2025-02-03 15:40:07 -0500 (Mon, 03 Feb 2025) EllapsedTime: 3.9 seconds RetCode: 0 Status: OK