Package: rpx Version: 2.14.1 Command: /Library/Frameworks/R.framework/Resources/bin/R CMD check --install=check:rpx.install-out.txt --library=/Library/Frameworks/R.framework/Resources/library --no-vignettes --timings rpx_2.14.1.tar.gz StartedAt: 2025-02-11 09:33:17 -0500 (Tue, 11 Feb 2025) EndedAt: 2025-02-11 09:35:21 -0500 (Tue, 11 Feb 2025) EllapsedTime: 124.6 seconds RetCode: 0 Status: OK CheckDir: rpx.Rcheck Warnings: 0