Package: rpx Version: 2.14.0 Command: chmod a+r rpx -R && F:\biocbuild\bbs-3.20-bioc\R\bin\R.exe CMD build --keep-empty-dirs --no-resave-data rpx StartedAt: 2025-02-03 21:46:54 -0500 (Mon, 03 Feb 2025) EndedAt: 2025-02-03 21:47:22 -0500 (Mon, 03 Feb 2025) EllapsedTime: 27.6 seconds RetCode: 1 Status: ERROR PackageFile: None PackageFileSize: NA