Package: rqt Version: 1.32.0 Command: /Library/Frameworks/R.framework/Resources/bin/R CMD INSTALL rqt StartedAt: 2025-02-10 18:02:09 -0500 (Mon, 10 Feb 2025) EndedAt: 2025-02-10 18:02:41 -0500 (Mon, 10 Feb 2025) EllapsedTime: 32.6 seconds RetCode: 0 Status: OK