Package: rqt Version: 1.32.0 Command: /Library/Frameworks/R.framework/Resources/bin/R CMD build --keep-empty-dirs --no-resave-data rqt StartedAt: 2025-01-30 22:24:10 -0500 (Thu, 30 Jan 2025) EndedAt: 2025-01-30 22:25:43 -0500 (Thu, 30 Jan 2025) EllapsedTime: 93.1 seconds RetCode: 0 Status: OK PackageFile: rqt_1.32.0.tar.gz PackageFileSize: 541.2 KiB