Package: rqt Version: 1.32.0 Command: rm -rf rqt.buildbin-libdir && mkdir rqt.buildbin-libdir && F:\biocbuild\bbs-3.20-bioc\R\bin\R.exe CMD INSTALL --build --library=rqt.buildbin-libdir rqt_1.32.0.tar.gz StartedAt: 2025-01-31 09:29:20 -0500 (Fri, 31 Jan 2025) EndedAt: 2025-01-31 09:30:11 -0500 (Fri, 31 Jan 2025) EllapsedTime: 50.9 seconds RetCode: 0 Status: OK PackageFile: rqt_1.32.0.zip PackageFileSize: 883.2 KiB