Package: rqt Version: 1.32.0 Command: chmod a+r rqt -R && F:\biocbuild\bbs-3.20-bioc\R\bin\R.exe CMD build --keep-empty-dirs --no-resave-data rqt StartedAt: 2025-01-30 21:30:53 -0500 (Thu, 30 Jan 2025) EndedAt: 2025-01-30 21:32:04 -0500 (Thu, 30 Jan 2025) EllapsedTime: 71.0 seconds RetCode: 0 Status: OK PackageFile: rqt_1.32.0.tar.gz PackageFileSize: 541 KiB