Package: rqt Version: 1.32.0 Command: F:\biocbuild\bbs-3.20-bioc\R\bin\R.exe CMD check --no-multiarch --install=check:rqt.install-out.txt --library=F:\biocbuild\bbs-3.20-bioc\R\library --no-vignettes --timings rqt_1.32.0.tar.gz StartedAt: 2025-01-31 05:55:27 -0500 (Fri, 31 Jan 2025) EndedAt: 2025-01-31 05:58:52 -0500 (Fri, 31 Jan 2025) EllapsedTime: 204.5 seconds RetCode: 0 Status: OK CheckDir: rqt.Rcheck Warnings: 0