Package: rsbml Version: 2.64.0 Command: /home/biocbuild/R/R/bin/R CMD build --keep-empty-dirs --no-resave-data rsbml StartedAt: 2025-01-31 02:18:46 -0000 (Fri, 31 Jan 2025) EndedAt: 2025-01-31 02:18:49 -0000 (Fri, 31 Jan 2025) EllapsedTime: 3.0 seconds RetCode: 1 Status: ERROR PackageFile: None PackageFileSize: NA