Package: rsbml Version: 2.64.0 Command: /home/biocbuild/R/R/bin/R CMD INSTALL rsbml StartedAt: 2025-01-30 20:08:59 -0000 (Thu, 30 Jan 2025) EndedAt: 2025-01-30 20:09:15 -0000 (Thu, 30 Jan 2025) EllapsedTime: 16.4 seconds RetCode: 1 Status: ERROR