Package: rsemmed Version: 1.16.0 Command: /Library/Frameworks/R.framework/Resources/bin/R CMD INSTALL rsemmed StartedAt: 2025-02-10 15:15:48 -0500 (Mon, 10 Feb 2025) EndedAt: 2025-02-10 15:15:56 -0500 (Mon, 10 Feb 2025) EllapsedTime: 8.1 seconds RetCode: 0 Status: OK