Package: rsemmed Version: 1.16.0 Command: /Library/Frameworks/R.framework/Resources/bin/R CMD check --install=check:rsemmed.install-out.txt --library=/Library/Frameworks/R.framework/Resources/library --no-vignettes --timings rsemmed_1.16.0.tar.gz StartedAt: 2025-02-04 09:18:33 -0500 (Tue, 04 Feb 2025) EndedAt: 2025-02-04 09:20:01 -0500 (Tue, 04 Feb 2025) EllapsedTime: 88.1 seconds RetCode: 0 Status: OK CheckDir: rsemmed.Rcheck Warnings: 0