Package: rsemmed Version: 1.16.0 Command: rm -rf rsemmed.buildbin-libdir && mkdir rsemmed.buildbin-libdir && F:\biocbuild\bbs-3.20-bioc\R\bin\R.exe CMD INSTALL --build --library=rsemmed.buildbin-libdir rsemmed_1.16.0.tar.gz StartedAt: 2025-02-04 09:23:44 -0500 (Tue, 04 Feb 2025) EndedAt: 2025-02-04 09:24:04 -0500 (Tue, 04 Feb 2025) EllapsedTime: 19.9 seconds RetCode: 0 Status: OK PackageFile: rsemmed_1.16.0.zip PackageFileSize: 1.787 MiB