Package: rsemmed Version: 1.16.0 Command: /home/biocbuild/R/R/bin/R CMD build --keep-empty-dirs --no-resave-data rsemmed StartedAt: 2025-02-04 02:27:47 -0000 (Tue, 04 Feb 2025) EndedAt: 2025-02-04 02:28:21 -0000 (Tue, 04 Feb 2025) EllapsedTime: 34.0 seconds RetCode: 0 Status: OK PackageFile: rsemmed_1.16.0.tar.gz PackageFileSize: 1.869 MiB