Package: rtracklayer Version: 1.66.0 Command: /Library/Frameworks/R.framework/Resources/bin/R CMD check --install=check:rtracklayer.install-out.txt --library=/Library/Frameworks/R.framework/Resources/library --no-vignettes --timings rtracklayer_1.66.0.tar.gz StartedAt: 2025-02-12 07:47:30 -0500 (Wed, 12 Feb 2025) EndedAt: 2025-02-12 07:53:41 -0500 (Wed, 12 Feb 2025) EllapsedTime: 370.9 seconds RetCode: 0 Status: WARNINGS CheckDir: rtracklayer.Rcheck Warnings: 5