Package: rtracklayer Version: 1.66.0 Command: rm -rf rtracklayer.buildbin-libdir && mkdir rtracklayer.buildbin-libdir && F:\biocbuild\bbs-3.20-bioc\R\bin\R.exe CMD INSTALL --build --library=rtracklayer.buildbin-libdir rtracklayer_1.66.0.tar.gz StartedAt: 2025-02-04 09:24:26 -0500 (Tue, 04 Feb 2025) EndedAt: 2025-02-04 09:30:05 -0500 (Tue, 04 Feb 2025) EllapsedTime: 338.8 seconds RetCode: 0 Status: OK PackageFile: rtracklayer_1.66.0.zip PackageFileSize: 9.359 MiB