Package: rtracklayer Version: 1.66.0 Command: /home/biocbuild/R/R/bin/R CMD INSTALL rtracklayer StartedAt: 2025-02-03 20:38:16 -0000 (Mon, 03 Feb 2025) EndedAt: 2025-02-03 20:39:24 -0000 (Mon, 03 Feb 2025) EllapsedTime: 68.3 seconds RetCode: 0 Status: OK