Package: runibic Version: 1.28.0 Command: /home/biocbuild/bbs-3.20-bioc/R/bin/R CMD build --keep-empty-dirs --no-resave-data --md5 runibic StartedAt: 2025-02-10 18:58:33 -0500 (Mon, 10 Feb 2025) EndedAt: 2025-02-10 18:59:12 -0500 (Mon, 10 Feb 2025) EllapsedTime: 39.0 seconds RetCode: 0 Status: OK PackageFile: runibic_1.28.0.tar.gz PackageFileSize: 45.99 KiB