Package: runibic Version: 1.28.0 Command: rm -rf runibic.buildbin-libdir && mkdir runibic.buildbin-libdir && F:\biocbuild\bbs-3.20-bioc\R\bin\R.exe CMD INSTALL --build --library=runibic.buildbin-libdir runibic_1.28.0.tar.gz StartedAt: 2025-02-11 09:22:27 -0500 (Tue, 11 Feb 2025) EndedAt: 2025-02-11 09:23:15 -0500 (Tue, 11 Feb 2025) EllapsedTime: 48.4 seconds RetCode: 0 Status: OK PackageFile: runibic_1.28.0.zip PackageFileSize: 537 KiB