Package: runibic Version: 1.28.0 Command: F:\biocbuild\bbs-3.20-bioc\R\bin\R.exe CMD check --no-multiarch --install=check:runibic.install-out.txt --library=F:\biocbuild\bbs-3.20-bioc\R\library --no-vignettes --timings runibic_1.28.0.tar.gz StartedAt: 2025-02-04 05:48:20 -0500 (Tue, 04 Feb 2025) EndedAt: 2025-02-04 05:52:04 -0500 (Tue, 04 Feb 2025) EllapsedTime: 223.9 seconds RetCode: 0 Status: OK CheckDir: runibic.Rcheck Warnings: 0