Package: sSeq Version: 1.44.0 Command: /Library/Frameworks/R.framework/Resources/bin/R CMD build --keep-empty-dirs --no-resave-data sSeq StartedAt: 2025-02-04 09:11:07 -0500 (Tue, 04 Feb 2025) EndedAt: 2025-02-04 09:12:26 -0500 (Tue, 04 Feb 2025) EllapsedTime: 78.4 seconds RetCode: 0 Status: OK PackageFile: sSeq_1.44.0.tar.gz PackageFileSize: 4.201 MiB