Package: sSeq Version: 1.44.0 Command: rm -rf sSeq.buildbin-libdir && mkdir sSeq.buildbin-libdir && /Users/biocbuild/BBS/utils/build-universal.sh sSeq_1.44.0.tar.gz /Library/Frameworks/R.framework/Resources/bin/R sSeq.buildbin-libdir StartedAt: 2025-01-31 13:48:01 -0500 (Fri, 31 Jan 2025) EndedAt: 2025-01-31 13:48:12 -0500 (Fri, 31 Jan 2025) EllapsedTime: 10.7 seconds RetCode: 0 Status: OK PackageFile: sSeq_1.44.0.tgz PackageFileSize: 4.299 MiB