Package: sSeq Version: 1.44.0 Command: /Library/Frameworks/R.framework/Resources/bin/R CMD build --keep-empty-dirs --no-resave-data sSeq StartedAt: 2025-02-03 22:41:31 -0500 (Mon, 03 Feb 2025) EndedAt: 2025-02-03 22:43:53 -0500 (Mon, 03 Feb 2025) EllapsedTime: 142.2 seconds RetCode: 0 Status: OK PackageFile: sSeq_1.44.0.tar.gz PackageFileSize: 4.201 MiB