Package: sSeq Version: 1.44.0 Command: /Library/Frameworks/R.framework/Resources/bin/R CMD INSTALL sSeq StartedAt: 2025-02-03 15:14:59 -0500 (Mon, 03 Feb 2025) EndedAt: 2025-02-03 15:15:22 -0500 (Mon, 03 Feb 2025) EllapsedTime: 23.3 seconds RetCode: 0 Status: OK