Package: sSeq Version: 1.44.0 Command: rm -rf sSeq.buildbin-libdir && mkdir sSeq.buildbin-libdir && F:\biocbuild\bbs-3.20-bioc\R\bin\R.exe CMD INSTALL --build --library=sSeq.buildbin-libdir sSeq_1.44.0.tar.gz StartedAt: 2025-02-04 09:36:57 -0500 (Tue, 04 Feb 2025) EndedAt: 2025-02-04 09:37:09 -0500 (Tue, 04 Feb 2025) EllapsedTime: 12.4 seconds RetCode: 0 Status: OK PackageFile: sSeq_1.44.0.zip PackageFileSize: 4.3 MiB