Package: sSeq Version: 1.44.0 Command: /home/biocbuild/R/R/bin/R CMD build --keep-empty-dirs --no-resave-data sSeq StartedAt: 2025-02-11 02:53:52 -0000 (Tue, 11 Feb 2025) EndedAt: 2025-02-11 02:55:37 -0000 (Tue, 11 Feb 2025) EllapsedTime: 105.1 seconds RetCode: 0 Status: OK PackageFile: sSeq_1.44.0.tar.gz PackageFileSize: 4.194 MiB