Package: sampleClassifier Version: 1.30.0 Command: rm -rf sampleClassifier.buildbin-libdir && mkdir sampleClassifier.buildbin-libdir && /Users/biocbuild/BBS/utils/build-universal.sh sampleClassifier_1.30.0.tar.gz /Library/Frameworks/R.framework/Resources/bin/R sampleClassifier.buildbin-libdir StartedAt: 2025-02-05 17:36:49 -0500 (Wed, 05 Feb 2025) EndedAt: 2025-02-05 17:37:10 -0500 (Wed, 05 Feb 2025) EllapsedTime: 20.4 seconds RetCode: 0 Status: OK PackageFile: sampleClassifier_1.30.0.tgz PackageFileSize: 270.9 KiB