Package: sampleClassifier Version: 1.30.0 Command: /Library/Frameworks/R.framework/Resources/bin/R CMD build --keep-empty-dirs --no-resave-data sampleClassifier StartedAt: 2025-02-04 07:10:28 -0500 (Tue, 04 Feb 2025) EndedAt: 2025-02-04 07:13:16 -0500 (Tue, 04 Feb 2025) EllapsedTime: 168.1 seconds RetCode: 0 Status: OK PackageFile: sampleClassifier_1.30.0.tar.gz PackageFileSize: 238.7 KiB