Package: sampleClassifier Version: 1.30.0 Command: /Library/Frameworks/R.framework/Resources/bin/R CMD build --keep-empty-dirs --no-resave-data sampleClassifier StartedAt: 2025-02-10 21:57:49 -0500 (Mon, 10 Feb 2025) EndedAt: 2025-02-10 22:02:57 -0500 (Mon, 10 Feb 2025) EllapsedTime: 307.7 seconds RetCode: 0 Status: OK PackageFile: sampleClassifier_1.30.0.tar.gz PackageFileSize: 238.8 KiB