Package: sampleClassifier Version: 1.30.0 Command: /Library/Frameworks/R.framework/Resources/bin/R CMD check --install=check:sampleClassifier.install-out.txt --library=/Library/Frameworks/R.framework/Resources/library --no-vignettes --timings sampleClassifier_1.30.0.tar.gz StartedAt: 2025-02-11 09:43:23 -0500 (Tue, 11 Feb 2025) EndedAt: 2025-02-11 09:52:01 -0500 (Tue, 11 Feb 2025) EllapsedTime: 518.4 seconds RetCode: 0 Status: OK CheckDir: sampleClassifier.Rcheck Warnings: 0