Package: sampleClassifier Version: 1.30.0 Command: /home/biocbuild/bbs-3.20-bioc/R/bin/R CMD build --keep-empty-dirs --no-resave-data --md5 sampleClassifier StartedAt: 2025-02-03 19:06:51 -0500 (Mon, 03 Feb 2025) EndedAt: 2025-02-03 19:09:04 -0500 (Mon, 03 Feb 2025) EllapsedTime: 133.2 seconds RetCode: 0 Status: OK PackageFile: sampleClassifier_1.30.0.tar.gz PackageFileSize: 239.6 KiB