Package: sampleClassifier Version: 1.30.0 Command: /home/biocbuild/bbs-3.20-bioc/R/bin/R CMD INSTALL sampleClassifier StartedAt: 2025-02-03 15:35:15 -0500 (Mon, 03 Feb 2025) EndedAt: 2025-02-03 15:35:30 -0500 (Mon, 03 Feb 2025) EllapsedTime: 14.6 seconds RetCode: 0 Status: OK