Package: sampleClassifier Version: 1.30.0 Command: chmod a+r sampleClassifier -R && F:\biocbuild\bbs-3.20-bioc\R\bin\R.exe CMD build --keep-empty-dirs --no-resave-data sampleClassifier StartedAt: 2025-02-10 21:45:34 -0500 (Mon, 10 Feb 2025) EndedAt: 2025-02-10 21:49:02 -0500 (Mon, 10 Feb 2025) EllapsedTime: 208.9 seconds RetCode: 0 Status: OK PackageFile: sampleClassifier_1.30.0.tar.gz PackageFileSize: 238.2 KiB