Package: sampleClassifier Version: 1.30.0 Command: F:\biocbuild\bbs-3.20-bioc\R\bin\R.exe CMD INSTALL sampleClassifier StartedAt: 2025-02-10 16:15:22 -0500 (Mon, 10 Feb 2025) EndedAt: 2025-02-10 16:15:51 -0500 (Mon, 10 Feb 2025) EllapsedTime: 28.9 seconds RetCode: 0 Status: OK