Package: sampleClassifier Version: 1.30.0 Command: /home/biocbuild/R/R/bin/R CMD build --keep-empty-dirs --no-resave-data sampleClassifier StartedAt: 2025-02-04 02:32:14 -0000 (Tue, 04 Feb 2025) EndedAt: 2025-02-04 02:35:12 -0000 (Tue, 04 Feb 2025) EllapsedTime: 177.2 seconds RetCode: 0 Status: OK PackageFile: sampleClassifier_1.30.0.tar.gz PackageFileSize: 230.9 KiB