Package: sangeranalyseR Version: 1.16.0 Command: /Library/Frameworks/R.framework/Resources/bin/R CMD build --keep-empty-dirs --no-resave-data sangeranalyseR StartedAt: 2025-02-04 07:11:15 -0500 (Tue, 04 Feb 2025) EndedAt: 2025-02-04 07:12:03 -0500 (Tue, 04 Feb 2025) EllapsedTime: 47.4 seconds RetCode: 0 Status: OK PackageFile: sangeranalyseR_1.16.0.tar.gz PackageFileSize: 38.16 MiB